BEGIN:VCALENDAR
VERSION:2.0
CALSCALE:GREGORIAN
PRODID:-//Diputació de Barcelona//DibaCMS//EN
BEGIN:VEVENT
UID:2722
DTSTAMP:20260420T022539
DTSTART:20220719T090000
DTEND:20220719T200000
SUMMARY:Sortida a Port Aventura per a joves
LOCATION:Sortida des del Parc de l'Auvèrnia. 
METHOD:PUBLISH
X-WR-CALNAME:monistrolm@monistroldemontserrat.cat
X-WR-TIMEZONE:Europe/Madrid
DESCRIPTION:
URI:https://www.monistroldemontserrat.cat/sobras/govern/agenda-politica/sortida-a-port-aventura-per-a-joves.html
CLASS:PUBLIC
END:VEVENT
END:VCALENDAR
