BEGIN:VCALENDAR
VERSION:2.0
CALSCALE:GREGORIAN
PRODID:-//Diputació de Barcelona//DibaCMS//EN
BEGIN:VEVENT
UID:2763
DTSTAMP:20260420T022134
DTSTART:20220825T213000
DTEND:20220825T233000
SUMMARY:Benvingut 18: bany nocturn per a jov@s empadronats a Monistrol de Montserrat, nascuts els anys 2002, 2003 i 2004
LOCATION:Passeig Germans la Salle, S/N 08691 Monistrol de Montserrat
METHOD:PUBLISH
X-WR-CALNAME:monistrolm@monistroldemontserrat.cat
X-WR-TIMEZONE:Europe/Madrid
DESCRIPTION:CANCEL·LAT!

URI:https://www.monistroldemontserrat.cat/sobras/govern/agenda-politica/benvingut-18-bany-nocturn-per-a-jovas-empadronats-a-monistrol-de-montserrat-nascuts-els-anys-2002-2003-i-2004.html
CLASS:PUBLIC
END:VEVENT
END:VCALENDAR
