BEGIN:VCALENDAR
VERSION:2.0
CALSCALE:GREGORIAN
PRODID:-//Diputació de Barcelona//DibaCMS//EN
BEGIN:VEVENT
UID:2795
DTSTAMP:20260420T040103
DTSTART:20220920T000000
DTEND:20220920T000000
SUMMARY:Reunió Escola Esportiva 
LOCATION:
METHOD:PUBLISH
X-WR-CALNAME:monistrolm@monistroldemontserrat.cat
X-WR-TIMEZONE:Europe/Madrid
DESCRIPTION:
URI:https://www.monistroldemontserrat.cat/sobras/govern/agenda-politica/reunio-escola-esportiva-.html
CLASS:PUBLIC
END:VEVENT
END:VCALENDAR
