BEGIN:VCALENDAR
VERSION:2.0
CALSCALE:GREGORIAN
PRODID:-//Diputació de Barcelona//DibaCMS//EN
BEGIN:VEVENT
UID:2799
DTSTAMP:20260420T034811
DTSTART:20221004T080000
DTEND:20221004T150000
SUMMARY:Recollida de voluminosos
LOCATION:
METHOD:PUBLISH
X-WR-CALNAME:monistrolm@monistroldemontserrat.cat
X-WR-TIMEZONE:Europe/Madrid
DESCRIPTION:Recollida a domicili de voluminosos trucant al telèfon 937 51 00 96.

URI:https://www.monistroldemontserrat.cat//continguts//2799-recollida-de-voluminosos.html
CLASS:PUBLIC
END:VEVENT
END:VCALENDAR
