BEGIN:VCALENDAR
VERSION:2.0
CALSCALE:GREGORIAN
PRODID:-//Diputació de Barcelona//DibaCMS//EN
BEGIN:VEVENT
UID:2800
DTSTAMP:20260420T195349
DTSTART:20231229T100000
DTEND:20240102T130000
SUMMARY:Atenció al client Aigües de Catalunya
LOCATION:Carrer Sant Joan, 1, 08691 Monistrol de Montserrat
METHOD:PUBLISH
X-WR-CALNAME:monistrolm@monistroldemontserrat.cat
X-WR-TIMEZONE:Europe/Madrid
DESCRIPTION:Lloc: Can Gibert, 3r pis

URI:https://www.monistroldemontserrat.cat//continguts//atencio-al-client-aigues-de-catalunya.html
CLASS:PUBLIC
END:VEVENT
END:VCALENDAR
