BEGIN:VCALENDAR
VERSION:2.0
CALSCALE:GREGORIAN
PRODID:-//Diputació de Barcelona//DibaCMS//EN
BEGIN:VEVENT
UID:2822
DTSTAMP:20260420T073340
DTSTART:20221022T093000
DTEND:20221022T200000
SUMMARY:Sortida al Born
LOCATION:
METHOD:PUBLISH
X-WR-CALNAME:monistrolm@monistroldemontserrat.cat
X-WR-TIMEZONE:Europe/Madrid
DESCRIPTION:Sortida al concert de guitarra i visita guiada a les runes del Born Centre de Cultura i Memòria.

URI:https://www.monistroldemontserrat.cat//continguts//sortida-al-born.html
CLASS:PUBLIC
END:VEVENT
END:VCALENDAR
