BEGIN:VCALENDAR
VERSION:2.0
CALSCALE:GREGORIAN
PRODID:-//Diputació de Barcelona//DibaCMS//EN
BEGIN:VEVENT
UID:2831
DTSTAMP:20260420T042128
DTSTART:20221026T190000
DTEND:20221026T210000
SUMMARY:Hollywood i Montserrat
LOCATION:
METHOD:PUBLISH
X-WR-CALNAME:monistrolm@monistroldemontserrat.cat
X-WR-TIMEZONE:Europe/Madrid
DESCRIPTION:Xerrada Hollywood i Montserrat a Can Gibert

URI:https://www.monistroldemontserrat.cat/sobras/govern/agenda-politica/hollywood-i-montserrat.html
CLASS:PUBLIC
END:VEVENT
END:VCALENDAR
