BEGIN:VCALENDAR
VERSION:2.0
CALSCALE:GREGORIAN
PRODID:-//Diputació de Barcelona//DibaCMS//EN
BEGIN:VEVENT
UID:2843
DTSTAMP:20260420T053330
DTSTART:20221113T100000
DTEND:20221113T140000
SUMMARY:El 13 de novembre, vine a donar sang!
LOCATION:
METHOD:PUBLISH
X-WR-CALNAME:monistrolm@monistroldemontserrat.cat
X-WR-TIMEZONE:Europe/Madrid
DESCRIPTION:Diugmenge, 13 de novembre, de 10 a 14 hores, vine a donar sang a l'Espai Joan Carles Amat (Av. Abat Escarré).  

 

 

URI:https://www.monistroldemontserrat.cat//continguts//el-13-de-novembre-vine-a-donar-sang.html
CLASS:PUBLIC
END:VEVENT
END:VCALENDAR
