BEGIN:VCALENDAR
VERSION:2.0
CALSCALE:GREGORIAN
PRODID:-//Diputació de Barcelona//DibaCMS//EN
BEGIN:VEVENT
UID:2851
DTSTAMP:20260420T041734
DTSTART:20221121T200000
DTEND:20221121T220000
SUMMARY:Reunió Romeus 2023
LOCATION:
METHOD:PUBLISH
X-WR-CALNAME:monistrolm@monistroldemontserrat.cat
X-WR-TIMEZONE:Europe/Madrid
DESCRIPTION:
URI:https://www.monistroldemontserrat.cat//continguts//reunio-romeus-2023.html
CLASS:PUBLIC
END:VEVENT
END:VCALENDAR
