BEGIN:VCALENDAR
VERSION:2.0
CALSCALE:GREGORIAN
PRODID:-//Diputació de Barcelona//DibaCMS//EN
BEGIN:VEVENT
UID:2853
DTSTAMP:20260420T073732
DTSTART:20221218T100000
DTEND:20221218T130000
SUMMARY:9a. Caminada nadalenca 2022
LOCATION:
METHOD:PUBLISH
X-WR-CALNAME:monistrolm@monistroldemontserrat.cat
X-WR-TIMEZONE:Europe/Madrid
DESCRIPTION:
URI:https://www.monistroldemontserrat.cat/sobras/govern/agenda-politica/9a-caminada-nadalenca-2022.html
CLASS:PUBLIC
END:VEVENT
END:VCALENDAR
