BEGIN:VCALENDAR
VERSION:2.0
CALSCALE:GREGORIAN
PRODID:-//Diputació de Barcelona//DibaCMS//EN
BEGIN:VEVENT
UID:2857
DTSTAMP:20260420T080228
DTSTART:20221125T190000
DTEND:20221125T220000
SUMMARY:25N dia internacional per l'eliminació de la violència contra les dones
LOCATION:
METHOD:PUBLISH
X-WR-CALNAME:monistrolm@monistroldemontserrat.cat
X-WR-TIMEZONE:Europe/Madrid
DESCRIPTION:
	Projecció audiovisual 
	lectura del manifest
	encesa d'espelmes


URI:https://www.monistroldemontserrat.cat//continguts//2857-25n-dia-internacional-per-leliminacio-de-la-violencia-contra-les-dones.html
CLASS:PUBLIC
END:VEVENT
END:VCALENDAR
