BEGIN:VCALENDAR
VERSION:2.0
CALSCALE:GREGORIAN
PRODID:-//Diputació de Barcelona//DibaCMS//EN
BEGIN:VEVENT
UID:2859
DTSTAMP:20260420T042047
DTSTART:20221126T113000
DTEND:20221126T180000
SUMMARY:Inauguració Escultura 
LOCATION:
METHOD:PUBLISH
X-WR-CALNAME:monistrolm@monistroldemontserrat.cat
X-WR-TIMEZONE:Europe/Madrid
DESCRIPTION:
	 Gegants de Monistrol.
	L'orfeó Monistralenc.
	L'esbart Monistrol Dansaire.
	Els grallers de Monistrol amb en Roc i la Mariona.
	La colla de diables Els Tronats.


URI:https://www.monistroldemontserrat.cat/sobras/govern/agenda-politica/2859-inauguracio-escultura-.html
CLASS:PUBLIC
END:VEVENT
END:VCALENDAR
