BEGIN:VCALENDAR
VERSION:2.0
CALSCALE:GREGORIAN
PRODID:-//Diputació de Barcelona//DibaCMS//EN
BEGIN:VEVENT
UID:2861
DTSTAMP:20260420T042400
DTSTART:20221123T190000
DTEND:20221123T210000
SUMMARY:Dites catalanes
LOCATION:
METHOD:PUBLISH
X-WR-CALNAME:monistrolm@monistroldemontserrat.cat
X-WR-TIMEZONE:Europe/Madrid
DESCRIPTION:Presentació de dites catalanes 400 aforismes de Joan Carles i Amat. 


	Qui va ser Joan Carles Amat i quina és la seva rellevància?
	Era Metge, escriptor o músic?
	Per què aquest recull d'aforismes va ser tan popular?
	D'on surten les parèmies catalanes? 


URI:https://www.monistroldemontserrat.cat/sobras/govern/agenda-politica/dites-catalanes.html
CLASS:PUBLIC
END:VEVENT
END:VCALENDAR
