BEGIN:VCALENDAR
VERSION:2.0
CALSCALE:GREGORIAN
PRODID:-//Diputació de Barcelona//DibaCMS//EN
BEGIN:VEVENT
UID:2863
DTSTAMP:20260420T061815
DTSTART:20230128T090000
DTEND:20230129T210000
SUMMARY:Festa de Romeus 2023
LOCATION:
METHOD:PUBLISH
X-WR-CALNAME:monistrolm@monistroldemontserrat.cat
X-WR-TIMEZONE:Europe/Madrid
DESCRIPTION:
URI:https://www.monistroldemontserrat.cat/sobras/govern/agenda-politica/festa-de-romeus-2023.html
CLASS:PUBLIC
END:VEVENT
END:VCALENDAR
