BEGIN:VCALENDAR
VERSION:2.0
CALSCALE:GREGORIAN
PRODID:-//Diputació de Barcelona//DibaCMS//EN
BEGIN:VEVENT
UID:2868
DTSTAMP:20260420T055735
DTSTART:20221217T090000
DTEND:20221218T210000
SUMMARY:Recollida de joguines
LOCATION:
METHOD:PUBLISH
X-WR-CALNAME:monistrolm@monistroldemontserrat.cat
X-WR-TIMEZONE:Europe/Madrid
DESCRIPTION:
URI:https://www.monistroldemontserrat.cat/sobras/govern/agenda-politica/recollida-de-joguines.html
CLASS:PUBLIC
END:VEVENT
END:VCALENDAR
