BEGIN:VCALENDAR
VERSION:2.0
CALSCALE:GREGORIAN
PRODID:-//Diputació de Barcelona//DibaCMS//EN
BEGIN:VEVENT
UID:2883
DTSTAMP:20260419T150814
DTSTART:20221229T160000
DTEND:20221229T210000
SUMMARY:Jocs gegants 
LOCATION:
METHOD:PUBLISH
X-WR-CALNAME:monistrolm@monistroldemontserrat.cat
X-WR-TIMEZONE:Europe/Madrid
DESCRIPTION:
URI:https://www.monistroldemontserrat.cat/sobras/govern/agenda-politica/jocs-gegants-.html
CLASS:PUBLIC
END:VEVENT
END:VCALENDAR
