BEGIN:VCALENDAR
VERSION:2.0
CALSCALE:GREGORIAN
PRODID:-//Diputació de Barcelona//DibaCMS//EN
BEGIN:VEVENT
UID:2884
DTSTAMP:20260419T160357
DTSTART:20221230T170000
DTEND:20221230T210000
SUMMARY:Cap d'any Infantil
LOCATION:
METHOD:PUBLISH
X-WR-CALNAME:monistrolm@monistroldemontserrat.cat
X-WR-TIMEZONE:Europe/Madrid
DESCRIPTION:
URI:https://www.monistroldemontserrat.cat/sobras/govern/agenda-politica/cap-dany-infantil.html
CLASS:PUBLIC
END:VEVENT
END:VCALENDAR
