BEGIN:VCALENDAR
VERSION:2.0
CALSCALE:GREGORIAN
PRODID:-//Diputació de Barcelona//DibaCMS//EN
BEGIN:VEVENT
UID:2889
DTSTAMP:20260419T152725
DTSTART:20230104T173000
DTEND:20230104T210000
SUMMARY:Cinema infantil "Luca
LOCATION:
METHOD:PUBLISH
X-WR-CALNAME:monistrolm@monistroldemontserrat.cat
X-WR-TIMEZONE:Europe/Madrid
DESCRIPTION:
URI:https://www.monistroldemontserrat.cat/sobras/govern/agenda-politica/cinema-infantil-luca.html
CLASS:PUBLIC
END:VEVENT
END:VCALENDAR
