BEGIN:VCALENDAR
VERSION:2.0
CALSCALE:GREGORIAN
PRODID:-//Diputació de Barcelona//DibaCMS//EN
BEGIN:VEVENT
UID:2891
DTSTAMP:20260419T142914
DTSTART:20230105T180000
DTEND:20230105T210000
SUMMARY:Arribada SSMM Reis d'Orient i cavalcada pels carrers del poble
LOCATION:
METHOD:PUBLISH
X-WR-CALNAME:monistrolm@monistroldemontserrat.cat
X-WR-TIMEZONE:Europe/Madrid
DESCRIPTION:
URI:https://www.monistroldemontserrat.cat/sobras/govern/agenda-politica/arribada-ssmm-reis-dorient-i-cavalcada-pels-carrers-del-poble.html
CLASS:PUBLIC
END:VEVENT
END:VCALENDAR
