BEGIN:VCALENDAR
VERSION:2.0
CALSCALE:GREGORIAN
PRODID:-//Diputació de Barcelona//DibaCMS//EN
BEGIN:VEVENT
UID:2909
DTSTAMP:20260420T105736
DTSTART:20230105T180000
DTEND:20230105T230000
SUMMARY:Cavalcada de reis 2023
LOCATION:
METHOD:PUBLISH
X-WR-CALNAME:monistrolm@monistroldemontserrat.cat
X-WR-TIMEZONE:Europe/Madrid
DESCRIPTION:
URI:https://www.monistroldemontserrat.cat/sobras/govern/agenda-politica/cavalcada-de-reis-2023.html
CLASS:PUBLIC
END:VEVENT
END:VCALENDAR
