BEGIN:VCALENDAR
VERSION:2.0
CALSCALE:GREGORIAN
PRODID:-//Diputació de Barcelona//DibaCMS//EN
BEGIN:VEVENT
UID:2947
DTSTAMP:20260420T061852
DTSTART:20230214T100000
DTEND:20230214T130000
SUMMARY:Atenció al client Aigües de Catalunya 
LOCATION:
METHOD:PUBLISH
X-WR-CALNAME:monistrolm@monistroldemontserrat.cat
X-WR-TIMEZONE:Europe/Madrid
DESCRIPTION:Servei al ciutadà.

Lloc: C/Sant Joan,1 Can Gibert 3ªPt

 

URI:https://www.monistroldemontserrat.cat/sobras/govern/agenda-politica/atencio-al-client-aigues-de-catalunya-.html
CLASS:PUBLIC
END:VEVENT
END:VCALENDAR
