BEGIN:VCALENDAR
VERSION:2.0
CALSCALE:GREGORIAN
PRODID:-//Diputació de Barcelona//DibaCMS//EN
BEGIN:VEVENT
UID:2978
DTSTAMP:20260420T061932
DTSTART:20230225T000000
DTEND:20230225T000000
SUMMARY:Carnaval 2023
LOCATION:
METHOD:PUBLISH
X-WR-CALNAME:monistrolm@monistroldemontserrat.cat
X-WR-TIMEZONE:Europe/Madrid
DESCRIPTION:Carnaval

URI:https://www.monistroldemontserrat.cat//continguts//carnaval-2023.html
CLASS:PUBLIC
END:VEVENT
END:VCALENDAR
