BEGIN:VCALENDAR
VERSION:2.0
CALSCALE:GREGORIAN
PRODID:-//Diputació de Barcelona//DibaCMS//EN
BEGIN:VEVENT
UID:2980
DTSTAMP:20260420T110814
DTSTART:20230212T080000
DTEND:20230212T150000
SUMMARY:Cursa La Montserrat Skyrace 
LOCATION:
METHOD:PUBLISH
X-WR-CALNAME:monistrolm@monistroldemontserrat.cat
X-WR-TIMEZONE:Europe/Madrid
DESCRIPTION:Aquest diumenge 12 de Febrer es torna a disputar la Cursa La Montserrat Skyrace al nostre municipi.

Un total de 700 participants, repartits en dues curses;


	La Montserrat Skyrace
	L'express


 


	Recollida de Dorsals 


Lloc: Pavelló de Monistrol de Montserrat 

Horari: 08:00 - 9.30h


	Sortida 


Lloc: Pavelló de Monistrol de Montserrat 

Horari: 9.30h


	Arribades


Lloc: Pavelló de Monistrol de Montserrat 

Primer / a participant: 10:30h

Temps de tall: 12:30h


	Premis


Lloc: Pavelló de Monistrol de Montserrat 

Horari: 12:00h

 

Trobaràs la informació i les inscripcions a: montserratskyrace

Consulta el programa aquí: https://www.klassmark.com/montserratskyrace-programa/

URI:https://www.monistroldemontserrat.cat/sobras/govern/agenda-politica/cursa-la-montserrat-skyrace-.html
CLASS:PUBLIC
END:VEVENT
END:VCALENDAR
