BEGIN:VCALENDAR
VERSION:2.0
CALSCALE:GREGORIAN
PRODID:-//Diputació de Barcelona//DibaCMS//EN
BEGIN:VEVENT
UID:2988
DTSTAMP:20260420T081605
DTSTART:20230303T153000
DTEND:20230303T163000
SUMMARY:Jornada de portes obertes  Escola Sant Pere
LOCATION:
METHOD:PUBLISH
X-WR-CALNAME:monistrolm@monistroldemontserrat.cat
X-WR-TIMEZONE:Europe/Madrid
DESCRIPTION:ESCOLA SANT PERE 

  Portes obertes: Divendres 3 de març de 15:30h a 16:30h (per a tothom)

Les portes obertes són PRESENCIALS, sense necessitat d’inscripció prèvia

 

Per a més informació:

c. Escoles, 23 – 08691 Monistrol de Montserrat

Tel. 93 835 04 05

 a8021892@xtec.cat

https://agora.xtec.cat/ceipsantpere/

 

URI:https://www.monistroldemontserrat.cat//continguts//jornada-de-portes-obertes-escola-sant-pere.html
CLASS:PUBLIC
END:VEVENT
END:VCALENDAR
