BEGIN:VCALENDAR
VERSION:2.0
CALSCALE:GREGORIAN
PRODID:-//Diputació de Barcelona//DibaCMS//EN
BEGIN:VEVENT
UID:2989
DTSTAMP:20260420T061715
DTSTART:20230228T171500
DTEND:20230228T190000
SUMMARY:Reunió informativa Escola Sant Pere
LOCATION:
METHOD:PUBLISH
X-WR-CALNAME:monistrolm@monistroldemontserrat.cat
X-WR-TIMEZONE:Europe/Madrid
DESCRIPTION:ESCOLA SANT PERE 

    Reunió informativa (noves matrícules): Dimarts 28 de febrer a les 17:15h (meet.google.com/vxt-emrr-rou)

 

Per a més informació:

c. Escoles, 23 – 08691 Monistrol de Montserrat

Tel. 93 835 04 05

 a8021892@xtec.cat

https://agora.xtec.cat/ceipsantpere/

 

URI:https://www.monistroldemontserrat.cat//continguts//reunio-informativa-escola-sant-pere.html
CLASS:PUBLIC
END:VEVENT
END:VCALENDAR
