BEGIN:VCALENDAR
VERSION:2.0
CALSCALE:GREGORIAN
PRODID:-//Diputació de Barcelona//DibaCMS//EN
BEGIN:VEVENT
UID:2990
DTSTAMP:20260420T081448
DTSTART:20230305T110000
DTEND:20230305T130000
SUMMARY:Jornada de portes obertes Escola Fedac Monistrol
LOCATION:
METHOD:PUBLISH
X-WR-CALNAME:monistrolm@monistroldemontserrat.cat
X-WR-TIMEZONE:Europe/Madrid
DESCRIPTION:ESCOLA FEDAC MONISTROL

  Portes obertes: Diumenge 5 de març d’11h a 13h

Les portes obertes són PRESENCIALS, i cal inscripció prèvia a l’enllaç https://www.monistrol.fedac.cat

 

Per a més informació:

Germans de la Salle s/n – 08691 Monistrol de Montserrat

Tel 938 350 181

 fedac.monistrol@fedac.cat

https://www.monistrol.fedac.cat

 

URI:https://www.monistroldemontserrat.cat//continguts//jornada-de-portes-obertes-escola-fedac-monistrol.html
CLASS:PUBLIC
END:VEVENT
END:VCALENDAR
