BEGIN:VCALENDAR
VERSION:2.0
CALSCALE:GREGORIAN
PRODID:-//Diputació de Barcelona//DibaCMS//EN
BEGIN:VEVENT
UID:3000
DTSTAMP:20260420T195046
DTSTART:20230424T190000
DTEND:20230424T210000
SUMMARY:El teu fill/a té dret a estar bé
LOCATION:
METHOD:PUBLISH
X-WR-CALNAME:monistrolm@monistroldemontserrat.cat
X-WR-TIMEZONE:Europe/Madrid
DESCRIPTION:Fundació educativa de les famílies ofereix uns tallers on-line per tenir eines i estratègies per al desenvolupament dels nostres fills.

Cal inscripció prèvia al QR que s'indica als documents informatius.

 

URI:https://www.monistroldemontserrat.cat/sobras/govern/agenda-politica/el-teu-filla-te-dret-a-estar-be.html
CLASS:PUBLIC
END:VEVENT
END:VCALENDAR
