BEGIN:VCALENDAR
VERSION:2.0
CALSCALE:GREGORIAN
PRODID:-//Diputació de Barcelona//DibaCMS//EN
BEGIN:VEVENT
UID:3001
DTSTAMP:20260420T094205
DTSTART:20230508T190000
DTEND:20230508T210000
SUMMARY:Eines per ajudar els fills a crèixer
LOCATION:
METHOD:PUBLISH
X-WR-CALNAME:monistrolm@monistroldemontserrat.cat
X-WR-TIMEZONE:Europe/Madrid
DESCRIPTION:Fundació educativa de les famílies ofereix uns tallers on-line per tenir eines i estratègies per al desenvolupament dels nostres fills.

Cal inscripció prèvia al QR que s'indica als documents informatius.

URI:https://www.monistroldemontserrat.cat/sobras/govern/agenda-politica/eines-per-ajudar-els-fills-a-creixer.html
CLASS:PUBLIC
END:VEVENT
END:VCALENDAR
