BEGIN:VCALENDAR
VERSION:2.0
CALSCALE:GREGORIAN
PRODID:-//Diputació de Barcelona//DibaCMS//EN
BEGIN:VEVENT
UID:3003
DTSTAMP:20260420T110749
DTSTART:20230323T103000
DTEND:20230323T130000
SUMMARY:Oficina d'informació al consumidor 
LOCATION:
METHOD:PUBLISH
X-WR-CALNAME:monistrolm@monistroldemontserrat.cat
X-WR-TIMEZONE:Europe/Madrid
DESCRIPTION:
	Horari: 10.30 a 13.00 hores
	Lloc: Can Gibert (Sant Joan, 1, 1r)


URI:https://www.monistroldemontserrat.cat//continguts//oficina-dinformacio-al-consumidor-.html
CLASS:PUBLIC
END:VEVENT
END:VCALENDAR
