BEGIN:VCALENDAR
VERSION:2.0
CALSCALE:GREGORIAN
PRODID:-//Diputació de Barcelona//DibaCMS//EN
BEGIN:VEVENT
UID:3007
DTSTAMP:20260420T111144
DTSTART:20230423T120000
DTEND:20230423T190000
SUMMARY:Visita musicalitzada a la Sala de Cal Pla  
LOCATION:
METHOD:PUBLISH
X-WR-CALNAME:monistrolm@monistroldemontserrat.cat
X-WR-TIMEZONE:Europe/Madrid
DESCRIPTION:L'Ajuntament de Monistrol de Montserrat organitza una visita musicalitzada a la Sala de Cal Pla, obert a tothom.


	El dia 23 d'abril a les 12h, a les 17h i a les 18:30h.


Entrada pels Jardins de Cal Pla.

URI:https://www.monistroldemontserrat.cat/sobras/govern/agenda-politica/3007-visita-musicalitzada-a-la-sala-de-cal-pla-.html
CLASS:PUBLIC
END:VEVENT
END:VCALENDAR
