BEGIN:VCALENDAR
VERSION:2.0
CALSCALE:GREGORIAN
PRODID:-//Diputació de Barcelona//DibaCMS//EN
BEGIN:VEVENT
UID:3010
DTSTAMP:20260420T091313
DTSTART:20230326T113000
DTEND:20230326T140000
SUMMARY:Roda d'esbarts "Catalònia" Infantils i Juvenils 
LOCATION:
METHOD:PUBLISH
X-WR-CALNAME:monistrolm@monistroldemontserrat.cat
X-WR-TIMEZONE:Europe/Madrid
DESCRIPTION:Roda d'esbarts Catalònia infantils i juvenils


	Diumenge 26 de març a las 11:30h a la plaça de la Font Gran. 


URI:https://www.monistroldemontserrat.cat//continguts//3010-roda-desbarts-catalonia-infantils-i-juvenils-.html
CLASS:PUBLIC
END:VEVENT
END:VCALENDAR
