BEGIN:VCALENDAR
VERSION:2.0
CALSCALE:GREGORIAN
PRODID:-//Diputació de Barcelona//DibaCMS//EN
BEGIN:VEVENT
UID:3017
DTSTAMP:20260420T150515
DTSTART:20230330T190000
DTEND:20230330T220000
SUMMARY:Restauració de l'aqüeducte i de la muralla al Passeig de la Canaleta 
LOCATION:
METHOD:PUBLISH
X-WR-CALNAME:monistrolm@monistroldemontserrat.cat
X-WR-TIMEZONE:Europe/Madrid
DESCRIPTION:Restauració de l'aqüeducte i de la muralla al Passeig de la Canaleta a Monistrol de Montserrat.

Presentació del projecte;


	Dijous, 30 de març a les 19:00h a la sala d'actes de Can Gibert.


URI:https://www.monistroldemontserrat.cat//continguts//3017-restauracio-de-laqueducte-i-de-la-muralla-al-passeig-de-la-canaleta-.html
CLASS:PUBLIC
END:VEVENT
END:VCALENDAR
