BEGIN:VCALENDAR
VERSION:2.0
CALSCALE:GREGORIAN
PRODID:-//Diputació de Barcelona//DibaCMS//EN
BEGIN:VEVENT
UID:3019
DTSTAMP:20260420T090634
DTSTART:20230327T190000
DTEND:20230327T220000
SUMMARY:Consolidació del paviment del carrer de Julià fuchs
LOCATION:
METHOD:PUBLISH
X-WR-CALNAME:monistrolm@monistroldemontserrat.cat
X-WR-TIMEZONE:Europe/Madrid
DESCRIPTION:Per seguretat peatonal es fa la consolidació del paviment del camí dels darreres del carrer de Julià fuchs a Monistrol de Montserrat.

Presentació del projecte;


	Dilluns, 27 de març a les 19h a la Sala d'actes de Can Gibert.


URI:https://www.monistroldemontserrat.cat//continguts//consolidacio-del-paviment-del-carrer-de-julia-fuchs.html
CLASS:PUBLIC
END:VEVENT
END:VCALENDAR
