BEGIN:VCALENDAR
VERSION:2.0
CALSCALE:GREGORIAN
PRODID:-//Diputació de Barcelona//DibaCMS//EN
BEGIN:VEVENT
UID:3027
DTSTAMP:20260420T144727
DTSTART:20230605T090000
DTEND:20230605T130000
SUMMARY:Servei d'ocupació Juvenil per a Joves 
LOCATION:
METHOD:PUBLISH
X-WR-CALNAME:monistrolm@monistroldemontserrat.cat
X-WR-TIMEZONE:Europe/Madrid
DESCRIPTION:Nou servei d'ocupació juvenil.

Vols formar-te? busques feina? Si tens entre 16 i 29 anys i vius a Monistrol de Montserrat;


	Orientació per un futur de qualitat.
	Assesorament en formació i inserció laboral.


URI:https://www.monistroldemontserrat.cat/sobras/govern/agenda-politica/3027-servei-docupacio-juvenil-per-a-joves-.html
CLASS:PUBLIC
END:VEVENT
END:VCALENDAR
