BEGIN:VCALENDAR
VERSION:2.0
CALSCALE:GREGORIAN
PRODID:-//Diputació de Barcelona//DibaCMS//EN
BEGIN:VEVENT
UID:3032
DTSTAMP:20260420T110802
DTSTART:20230329T000000
DTEND:20230329T000000
SUMMARY:Setmana Santa a Monistrol de Montserrat
LOCATION:
METHOD:PUBLISH
X-WR-CALNAME:monistrolm@monistroldemontserrat.cat
X-WR-TIMEZONE:Europe/Madrid
DESCRIPTION:
URI:https://www.monistroldemontserrat.cat//continguts//3032-setmana-santa-a-monistrol-de-montserrat.html
CLASS:PUBLIC
END:VEVENT
END:VCALENDAR
