BEGIN:VCALENDAR
VERSION:2.0
CALSCALE:GREGORIAN
PRODID:-//Diputació de Barcelona//DibaCMS//EN
BEGIN:VEVENT
UID:3034
DTSTAMP:20260420T125503
DTSTART:20230402T100000
DTEND:20230402T220000
SUMMARY:Diumenge de Rams, 2 d'abril
LOCATION:
METHOD:PUBLISH
X-WR-CALNAME:monistrolm@monistroldemontserrat.cat
X-WR-TIMEZONE:Europe/Madrid
DESCRIPTION:
	10:00h a la plaça de l'Església, Benedicció de Rams i seguidament Santa Missa.
	18.00h a l'Església parroquial, Celebració de les set paraules.


URI:https://www.monistroldemontserrat.cat//continguts//diumenge-de-rams-2-dabril.html
CLASS:PUBLIC
END:VEVENT
END:VCALENDAR
