BEGIN:VCALENDAR
VERSION:2.0
CALSCALE:GREGORIAN
PRODID:-//Diputació de Barcelona//DibaCMS//EN
BEGIN:VEVENT
UID:3035
DTSTAMP:20260420T094131
DTSTART:20230406T183000
DTEND:20230407T000000
SUMMARY:Dijous Sant, 6 d'abril
LOCATION:
METHOD:PUBLISH
X-WR-CALNAME:monistrolm@monistroldemontserrat.cat
X-WR-TIMEZONE:Europe/Madrid
DESCRIPTION:
	18:30h a l'Església parroquial, Santa Missa de la Cena del Senyor.
	Després, fins les 00:00h Vetlla del Santíssim al Monument i cant de la Passió pels carrers.
	23:00h a l'Església parroquial, hora Santa.


URI:https://www.monistroldemontserrat.cat//continguts//dijous-sant-6-dabril.html
CLASS:PUBLIC
END:VEVENT
END:VCALENDAR
