BEGIN:VCALENDAR
VERSION:2.0
CALSCALE:GREGORIAN
PRODID:-//Diputació de Barcelona//DibaCMS//EN
BEGIN:VEVENT
UID:3036
DTSTAMP:20260420T125430
DTSTART:20230407T100000
DTEND:20230407T190000
SUMMARY:Divendres Sant, 7 d'abril
LOCATION:
METHOD:PUBLISH
X-WR-CALNAME:monistrolm@monistroldemontserrat.cat
X-WR-TIMEZONE:Europe/Madrid
DESCRIPTION:
	10:00h pels carrers de la Vila, Via Crucis.
	17:00h a l'Església parroquial, Celebració de la Passió i mort del Senyor seguidament, Solemne Processió de Silenci.


URI:https://www.monistroldemontserrat.cat//continguts//divendres-sant-7-dabril.html
CLASS:PUBLIC
END:VEVENT
END:VCALENDAR
