BEGIN:VCALENDAR
VERSION:2.0
CALSCALE:GREGORIAN
PRODID:-//Diputació de Barcelona//DibaCMS//EN
BEGIN:VEVENT
UID:3037
DTSTAMP:20260420T111214
DTSTART:20230408T203000
DTEND:20230408T220000
SUMMARY:Dissabte de Glòria, 8 d'abril
LOCATION:
METHOD:PUBLISH
X-WR-CALNAME:monistrolm@monistroldemontserrat.cat
X-WR-TIMEZONE:Europe/Madrid
DESCRIPTION:
	20:30h a l'Església parroquial, Vetlla Pasqual.


URI:https://www.monistroldemontserrat.cat//continguts//dissabte-de-gloria-8-dabril.html
CLASS:PUBLIC
END:VEVENT
END:VCALENDAR
