BEGIN:VCALENDAR
VERSION:2.0
CALSCALE:GREGORIAN
PRODID:-//Diputació de Barcelona//DibaCMS//EN
BEGIN:VEVENT
UID:3038
DTSTAMP:20260420T110942
DTSTART:20230409T103000
DTEND:20230409T113000
SUMMARY:Diumenge de Resurrecció, 9 d'abril 
LOCATION:
METHOD:PUBLISH
X-WR-CALNAME:monistrolm@monistroldemontserrat.cat
X-WR-TIMEZONE:Europe/Madrid
DESCRIPTION:
	10:30h a l'Església parroquial, Santa Missa del dia de Pasqua i cant del Regina Coeli.
	Acabat l'ofici religiós, Cant de Caramelles.


 

URI:https://www.monistroldemontserrat.cat//continguts//diumenge-de-resurreccio-9-dabril-.html
CLASS:PUBLIC
END:VEVENT
END:VCALENDAR
