BEGIN:VCALENDAR
VERSION:2.0
CALSCALE:GREGORIAN
PRODID:-//Diputació de Barcelona//DibaCMS//EN
BEGIN:VEVENT
UID:3040
DTSTAMP:20260420T104740
DTSTART:20230415T090000
DTEND:20230415T150000
SUMMARY:Caminada en família fins a Sant Jeroni
LOCATION:
METHOD:PUBLISH
X-WR-CALNAME:monistrolm@monistroldemontserrat.cat
X-WR-TIMEZONE:Europe/Madrid
DESCRIPTION:Caminada explicativa fins a Sant Jeroni:


	El dia 15 d'abril a les 9:00h a la estació del cremallera.


URI:https://www.monistroldemontserrat.cat/sobras/govern/agenda-politica/3040-caminada-en-familia-fins-a-sant-jeroni.html
CLASS:PUBLIC
END:VEVENT
END:VCALENDAR
