BEGIN:VCALENDAR
VERSION:2.0
CALSCALE:GREGORIAN
PRODID:-//Diputació de Barcelona//DibaCMS//EN
BEGIN:VEVENT
UID:3042
DTSTAMP:20260420T144758
DTSTART:20230612T100000
DTEND:20230612T123000
SUMMARY:Renovació DNI: 12 de juny de 2023
LOCATION:
METHOD:PUBLISH
X-WR-CALNAME:monistrolm@monistroldemontserrat.cat
X-WR-TIMEZONE:Europe/Madrid
DESCRIPTION:Dilluns 12 de Juny de 2023, de 10 a 12.30h, vindrà una unitat mòbil de la policia a Can Gibert per fer o renovar el DNI.

URI:https://www.monistroldemontserrat.cat//continguts//3042-renovacio-dni-12-de-juny-de-2023.html
CLASS:PUBLIC
END:VEVENT
END:VCALENDAR
