BEGIN:VCALENDAR
VERSION:2.0
CALSCALE:GREGORIAN
PRODID:-//Diputació de Barcelona//DibaCMS//EN
BEGIN:VEVENT
UID:3043
DTSTAMP:20260420T125556
DTSTART:20230619T100000
DTEND:20230619T123000
SUMMARY:Recollida DNI 19 de Juny
LOCATION:
METHOD:PUBLISH
X-WR-CALNAME:monistrolm@monistroldemontserrat.cat
X-WR-TIMEZONE:Europe/Madrid
DESCRIPTION:Recollida de DNI 19 de Juny.


	Horari: de 10 a 12:30 hores.


URI:https://www.monistroldemontserrat.cat//continguts//recollida-dni-19-de-juny.html
CLASS:PUBLIC
END:VEVENT
END:VCALENDAR
