BEGIN:VCALENDAR
VERSION:2.0
CALSCALE:GREGORIAN
PRODID:-//Diputació de Barcelona//DibaCMS//EN
BEGIN:VEVENT
UID:3048
DTSTAMP:20260420T144545
DTSTART:20230417T173000
DTEND:20230417T200000
SUMMARY:Sant Jordi Infantil 2023 (Tallers infantils)
LOCATION:
METHOD:PUBLISH
X-WR-CALNAME:monistrolm@monistroldemontserrat.cat
X-WR-TIMEZONE:Europe/Madrid
DESCRIPTION:
	17 d'Abril a les 17:30h - TALLERS INFANTILS a la Plaça de la font Gran.


URI:https://www.monistroldemontserrat.cat/sobras/govern/agenda-politica/sant-jordi-infantil-2023-tallers-infantils.html
CLASS:PUBLIC
END:VEVENT
END:VCALENDAR
