BEGIN:VCALENDAR
VERSION:2.0
CALSCALE:GREGORIAN
PRODID:-//Diputació de Barcelona//DibaCMS//EN
BEGIN:VEVENT
UID:3050
DTSTAMP:20260420T110834
DTSTART:20230421T090000
DTEND:20230421T200000
SUMMARY:Sant Jordi Infantil 2023
LOCATION:
METHOD:PUBLISH
X-WR-CALNAME:monistrolm@monistroldemontserrat.cat
X-WR-TIMEZONE:Europe/Madrid
DESCRIPTION:
	21 d'Abril a les 09:00 h - RODA DE CONTES  carrers de la Vila (Acte per les escoles). 
	21 d'Abril a les 17:30h - GIMCANA LITERÀRIA a la Plaça de la Font Gran.
	21 d'Abril a les 19:00h - ENTREGA DE PREMIS CONCURS NARRATIVA als Jardins de Cal Pla.


URI:https://www.monistroldemontserrat.cat/sobras/govern/agenda-politica/3050-sant-jordi-infantil-2023.html
CLASS:PUBLIC
END:VEVENT
END:VCALENDAR
