BEGIN:VCALENDAR
VERSION:2.0
CALSCALE:GREGORIAN
PRODID:-//Diputació de Barcelona//DibaCMS//EN
BEGIN:VEVENT
UID:3051
DTSTAMP:20260420T111128
DTSTART:20230423T110000
DTEND:20230423T130000
SUMMARY:Sant Jordi Infantil 2023 (Espectacle infantil)
LOCATION:
METHOD:PUBLISH
X-WR-CALNAME:monistrolm@monistroldemontserrat.cat
X-WR-TIMEZONE:Europe/Madrid
DESCRIPTION:
	23 d'Abril a les 11:00h - ESPECTACLE INFANTIL al Parc del Patufet.


URI:https://www.monistroldemontserrat.cat//continguts//sant-jordi-infantil-2023-espectacle-infantil.html
CLASS:PUBLIC
END:VEVENT
END:VCALENDAR
