BEGIN:VCALENDAR
VERSION:2.0
CALSCALE:GREGORIAN
PRODID:-//Diputació de Barcelona//DibaCMS//EN
BEGIN:VEVENT
UID:3056
DTSTAMP:20260420T144710
DTSTART:20230423T083000
DTEND:20230423T140000
SUMMARY:Sortida Coll d'Estenalles - Alzina Bonica 
LOCATION:
METHOD:PUBLISH
X-WR-CALNAME:monistrolm@monistroldemontserrat.cat
X-WR-TIMEZONE:Europe/Madrid
DESCRIPTION:El Club Muntanyenc Monistrolenc organitza una sortida al Coll d'Estenalles - Alzina Bonica.


	Dia 23 d'abril 2023 
	Hora 8.30h 
	Sortida - Piscines de Monistrol (cotxes propis fins a Coll d'estenalles).
	Cal dur esmorzar i beguda.


URI:https://www.monistroldemontserrat.cat/sobras/govern/agenda-politica/3056-sortida-coll-destenalles-alzina-bonica-.html
CLASS:PUBLIC
END:VEVENT
END:VCALENDAR
