BEGIN:VCALENDAR
VERSION:2.0
CALSCALE:GREGORIAN
PRODID:-//Diputació de Barcelona//DibaCMS//EN
BEGIN:VEVENT
UID:3058
DTSTAMP:20260420T181505
DTSTART:20230507T100000
DTEND:20230507T130000
SUMMARY:Jornada portes obertes Escola Bressol Municipal 2023-2024
LOCATION:
METHOD:PUBLISH
X-WR-CALNAME:monistrolm@monistroldemontserrat.cat
X-WR-TIMEZONE:Europe/Madrid
DESCRIPTION:Es realitzarà una jornada de portes obertes el DIUMENGE 7 de maig de 10 a 13h, per a tots els pares i mares que vulguin veure les instal·lacions, conèixer el funcionament i parlar amb les professores abans de formalitzar la preinscripció.

URI:https://www.monistroldemontserrat.cat//continguts//jornada-portes-obertes-escola-bressol-municipal-2023-2024.html
CLASS:PUBLIC
END:VEVENT
END:VCALENDAR
