BEGIN:VCALENDAR
VERSION:2.0
CALSCALE:GREGORIAN
PRODID:-//Diputació de Barcelona//DibaCMS//EN
BEGIN:VEVENT
UID:3060
DTSTAMP:20260420T150652
DTSTART:20230422T190000
DTEND:20230422T200000
SUMMARY:Presentació llibre Sant Jordi 2023
LOCATION:
METHOD:PUBLISH
X-WR-CALNAME:monistrolm@monistroldemontserrat.cat
X-WR-TIMEZONE:Europe/Madrid
DESCRIPTION:Presentació del llibre "Mil anys d'història de Monistrol" i homenatge a Llorenç Soldevila Soldevila a la Sala d'actes de Can Gibert a les 19:00h. 

URI:https://www.monistroldemontserrat.cat/sobras/govern/agenda-politica/presentacio-llibre-sant-jordi-2023.html
CLASS:PUBLIC
END:VEVENT
END:VCALENDAR
