BEGIN:VCALENDAR
VERSION:2.0
CALSCALE:GREGORIAN
PRODID:-//Diputació de Barcelona//DibaCMS//EN
BEGIN:VEVENT
UID:3069
DTSTAMP:20260420T125330
DTSTART:20230518T103000
DTEND:20230518T130000
SUMMARY:Visita OMIC
LOCATION:
METHOD:PUBLISH
X-WR-CALNAME:monistrolm@monistroldemontserrat.cat
X-WR-TIMEZONE:Europe/Madrid
DESCRIPTION:Oficina mòbil d'atenció al Consumidor

De 10.30 a 13.00 hores - Can Gibert (Carrer Sant Joan, 1)

URI:https://www.monistroldemontserrat.cat//continguts//visita-omic.html
CLASS:PUBLIC
END:VEVENT
END:VCALENDAR
